BEGIN:VCALENDAR
VERSION:2.0
BEGIN:VEVENT
DTSTAMP:20210504T090000
STATUS:CONFIRMED
UID:1560363617addtocalendar
DTSTART:20210504T090000
DTEND:20210504T100000
SUMMARY:Conversations with Correspondents: Journalism in Africa - Perils, Pitfalls, and Opportunities
DESCRIPTION:Join us on Tuesday, May 4 at 9 a.m. as the International Correspondents Committee hosts a discussion on the difficulties many African journalists encounter in their countries if they displease their government. We’ll be joined by Hopewell Chin’Ono, a Harvard University trained Zimbabwean journalist, winner of numerous awards, and Muthoki Mumo, a Kenyan journalist, now Committee to Protect Journalists (CPJ) representative in Sub-Saharan Africa. Registered participants will receive zoom information in advance of the program.
LOCATION:The National Press Club |
BEGIN:VALARM
TRIGGER:-PT15M
ACTION:DISPLAY
END:VALARM
TRANSP:OPAQUE
END:VEVENT
END:VCALENDAR